BEGIN:VCALENDAR
VERSION:2.0
PRODID:-//OmniMagnetCalendar//EN
BEGIN:VEVENT
DTSTAMP:20190625T195740Z
STATUS:CONFIRMED
UID:rmhuc.clubs.harvard.edu987
DTSTART:20260123T130000Z
DTEND:20260124T020000Z
LOCATION:
SUMMARY:Ski Train & Ski Day 2026  - Train tickets available now
DESCRIPTION:Join the RMHUC group for a pleasant ski/snowboard trip to the mountains. A uniquely Colorado event! The Amtrak Ski Train departs from, and returns the same day to, Denver Union Station. If you wish to drive, you can meet the group at Winter Park Ski Area.
BEGIN:VALARM
TRIGGER:-PT15M
ACTION:DISPLAY
END:VALARM
TRANSP:OPAQUE
END:VEVENT
END:VCALENDAR
