BEGIN:VCALENDAR
VERSION:2.0
PRODID:-//OmniMagnetCalendar//EN
BEGIN:VEVENT
DTSTAMP:20190625T195740Z
STATUS:CONFIRMED
UID:rmhuc.clubs.harvard.edu645
DTSTART:20170223T010000Z
DTEND:20170223T030000Z
LOCATION:Daniels Fund, 101 Monroe St., Denver, co, 80206, usa,
SUMMARY:Harvard Alumni Entrepreneurs Meeting February 22nd
DESCRIPTION:Join us for the next Denver chapter meeting of the Harvard Alumni Entrepreneurs to reimagine the potential of business! Our nonprofit alumni group is dedicated to the advancement of entrepreneurship, promotion of innovation, and the ideals of leadership a
BEGIN:VALARM
TRIGGER:-PT15M
ACTION:DISPLAY
END:VALARM
TRANSP:OPAQUE
END:VEVENT
END:VCALENDAR
