BEGIN:VCALENDAR
VERSION:2.0
PRODID:-//OmniMagnetCalendar//EN
BEGIN:VEVENT
DTSTAMP:20190625T195740Z
STATUS:CONFIRMED
UID:rmhuc.clubs.harvard.edu640
DTSTART:20161217T210000Z
DTEND:20161217T230000Z
LOCATION:Clyfford Still Museum, 1250 Bannock St., Denver, CO, 80204,
SUMMARY:EVENT FULL--Private Clyfford Still Museum Tour Saturday, December 17th
DESCRIPTION:Join us from 2:00 - 4:00 for a small group tour with happy hour to follow.
BEGIN:VALARM
TRIGGER:-PT15M
ACTION:DISPLAY
END:VALARM
TRANSP:OPAQUE
END:VEVENT
END:VCALENDAR
