BEGIN:VCALENDAR
VERSION:2.0
PRODID:-//OmniMagnetCalendar//EN
BEGIN:VEVENT
DTSTAMP:20190625T195740Z
STATUS:CONFIRMED
UID:rmhuc.clubs.harvard.edu1004
DTSTART:20260505T160000Z
DTEND:20260505T170000Z
LOCATION:Virtual, 1385 Curtis Street, Denver, Colorado, 80204, US,
SUMMARY:HAA Speakers Bureau Spotlight: Rituals, Habits, and Living the Good Life with Michael Norton
DESCRIPTION:Speakers Bureau Spotlight: Rituals, Habits, and Living the Good Life with Michael Norton -  the Harold M. Brierley Professor of Business Administration at the Harvard Business School.
BEGIN:VALARM
TRIGGER:-PT15M
ACTION:DISPLAY
END:VALARM
TRANSP:OPAQUE
END:VEVENT
END:VCALENDAR
